BEGIN:VCALENDAR
VERSION:2.0
PRODID:-//Hersfelder-Ruderverein//NONSGML kigkonsult.se iCalcreator 2.41.92//
CALSCALE:GREGORIAN
METHOD:PUBLISH
UID:34386231-3330-4133-a464-383838333761
X-WR-CALNAME:iCagenda
X-WR-CALDESC:Event Management Extension for Joomla!
X-WR-RELCALID:3E26604A-50F4-4449-8B3E-E4F4932D05B5
X-WR-TIMEZONE:Europe/Berlin
BEGIN:VTIMEZONE
TZID:Europe/Berlin
TZUNTIL:20271031T010000Z
BEGIN:STANDARD
TZNAME:CET
DTSTART:20251026T030000
TZOFFSETFROM:+0200
TZOFFSETTO:+0100
RDATE:20261025T030000
END:STANDARD
BEGIN:DAYLIGHT
TZNAME:CEST
DTSTART:20260329T020000
TZOFFSETFROM:+0100
TZOFFSETTO:+0200
RDATE:20270328T020000
END:DAYLIGHT
END:VTIMEZONE
BEGIN:VEVENT
UID:30363535-6633-4261-a636-653737623765
DTSTAMP:20260422T135732Z
CATEGORIES:Rudern am Bootshaus
CLASS:PUBLIC
DESCRIPTION:
DTSTART:20260422T153000Z
DTEND:20260422T153000Z
GEO:00;0
LOCATION:Bootshaus
ORGANIZER:
SEQUENCE:1
SUMMARY:Freizeitsportler Rudern
TRANSP:OPAQUE
URL:https://www.hersfelder-ruderverein.de/index.php/component/icagenda/13-e
 insteiger-rudern-mi-frueh/2026-04-22-17-30?layout=vcal
END:VEVENT
END:VCALENDAR
